BEGIN:VCALENDAR
VERSION:2.0
PRODID:gruene-winterbach.de
METHOD:PUBLISH
BEGIN:VTIMEZONE
TZID:Europe/Berlin
X-LIC-LOCATION:Europe/Berlin
BEGIN:DAYLIGHT
TZOFFSETFROM:+0100
TZOFFSETTO:+0200
TZNAME:CEST
DTSTART:19700329T020000
RRULE:FREQ=YEARLY;INTERVAL=1;BYDAY=-1SU;BYMONTH=3
END:DAYLIGHT
BEGIN:STANDARD
TZOFFSETFROM:+0200
TZOFFSETTO:+0100
TZNAME:CET
DTSTART:19701025T030000
RRULE:FREQ=YEARLY;INTERVAL=1;BYDAY=-1SU;BYMONTH=10
END:STANDARD
END:VTIMEZONE
BEGIN:VEVENT
UID:80d3914fe8fb29d345e34c587d8b06b7@gruene-winterbach.de
URL;VALUE=URI:https://gruene-winterbach.de/termine/ov-vernetzungstreffen/
LOCATION:Grünes Büro
SUMMARY:OV-Vernetzungstreffen
DESCRIPTION;ALTREP="data:text/html,%3Cp%3EDie%20Ortsverb%C3%A4nde%20treff
 en%20sich%20zur%20internen%20Koordination%3Cbr%20%2F%3E%0A.%20%3C%2Fp%3E"
 :Die Ortsverbände treffen sich zur internen Koordination\n\n.
CLASS:PUBLIC
DTSTART;TZID=Europe/Berlin:20260423T190000
DTEND;TZID=Europe/Berlin:20260423T210000
DTSTAMP:20260420T193548
END:VEVENT
BEGIN:VEVENT
UID:6d085cfc9950b3f223ac752be21a2f74@gruene-winterbach.de
URL;VALUE=URI:https://gruene-winterbach.de/termine/offener-austausch-mit-
 den-delegierten/
LOCATION:online
SUMMARY:Offener Austausch mit den Delegierten
DESCRIPTION;ALTREP="data:text/html,%3Cp%3EZur%20Vorbereitung%20des%20Land
 esparteitags%20tauschen%20sich%20Mitglieder%20und%20Delegierte%20aus.%20%
 3Cbr%20%2F%3E%0AZugangsdaten%20werden%20rechtzeitig%20bekannt%20gegeben.%
 20%3C%2Fp%3E":Zur Vorbereitung des Landesparteitags tauschen sich Mitglie
 der und Delegierte aus.\n\nZugangsdaten werden rechtzeitig bekannt gegebe
 n.
CLASS:PUBLIC
DTSTART;TZID=Europe/Berlin:20260503T180000
DTEND;TZID=Europe/Berlin:20260503T193000
DTSTAMP:20260420T193548
END:VEVENT
BEGIN:VEVENT
UID:a9d7915dbee954d4ce84d0c10d1b6dc8@gruene-winterbach.de
URL;VALUE=URI:https://gruene-winterbach.de/termine/kreisvorstandssitzung-
 12/
LOCATION:Grünes Büro
SUMMARY:Kreisvorstandssitzung
DESCRIPTION;ALTREP="data:text/html,%3Cp%3EDer%20Kreisvorstand%20trifft%20
 sich%20regelm%C3%A4%C3%9Fig%20zur%20Kreisvorstandssitzung.%20Solltest%20D
 u%20Interesse%20an%20den%20aktuellen%20Themen%20des%20Kreisvorstands%20ha
 ben%2C%20kannst%20Du%20Dich%20unter%20den%20auf%20der%20Homepage%20aufgef
 %C3%BChrten%20E-Mail-Adressen%20direkt%20an%20den%20Vorstand%20wenden.%3C
 %2Fp%3E":Der Kreisvorstand trifft sich regelmäßig zur Kreisvorstandssit
 zung. Solltest Du Interesse an den aktuellen Themen des Kreisvorstands ha
 ben\, kannst Du Dich unter den auf der Homepage aufgeführten E-Mail-Adre
 ssen direkt an den Vorstand wenden.
CLASS:PUBLIC
DTSTART;TZID=Europe/Berlin:20260506T190000
DTEND;TZID=Europe/Berlin:20260506T210000
DTSTAMP:20260420T193548
END:VEVENT
BEGIN:VEVENT
UID:a6392f648140995dea42163c80e867f4@gruene-winterbach.de
URL;VALUE=URI:https://gruene-winterbach.de/termine/treffen-des-ortsverban
 d-winterbach-3/
LOCATION:Bürgerhaus Kelter, Ritterstraße 3, Winterbach
SUMMARY:Treffen des Ortsverband Winterbach
DESCRIPTION;ALTREP="data:text/html,%0A%3Cp%3EDu%20interessierst%20dich%20
 f%C3%BCr%20Politik%20oder%20m%C3%B6chtest%20mehr%20%C3%BCber%20die%20Gr%C
 3%BCnen%20Winterbach%20erfahren%3F%3C%2Fp%3E%0A%0A%0A%0A%3Cp%3EKomm%20zu%
 20unserem%20offenen%20Treffen%20-%20immer%20am%20zweiten%20Montag%20im%20
 Monat.%3C%2Fp%3E%0A":Du interessierst dich für Politik oder möchtest me
 hr über die Grünen Winterbach erfahren?\n\nKomm zu unserem offenen Tref
 fen - immer am zweiten Montag im Monat.
CLASS:PUBLIC
DTSTART;TZID=Europe/Berlin:20260511T190000
DTEND;TZID=Europe/Berlin:20260511T210000
DTSTAMP:20260420T193548
END:VEVENT
BEGIN:VEVENT
UID:fd298cb6a1effaee2de8fbef5c12840a@gruene-winterbach.de
URL;VALUE=URI:https://gruene-winterbach.de/termine/kreisvorstandssitzung-
 bei-bedarf-5/
LOCATION:online
SUMMARY:Kreisvorstandssitzung bei Bedarf
DESCRIPTION;ALTREP="data:text/html,%3Cp%3EDer%20Kreisvorstand%20trifft%20
 sich%20regelm%C3%A4%C3%9Fig%20zur%20Kreisvorstandssitzung.%20Solltest%20D
 u%20Interesse%20an%20den%20aktuellen%20Themen%20des%20Kreisvorstands%20ha
 ben%2C%20kannst%20Du%20Dich%20unter%20den%20auf%20der%20Homepage%20aufgef
 %C3%BChrten%20E-Mail-Adressen%20direkt%20an%20den%20Vorstand%20wenden.%3C
 %2Fp%3E":Der Kreisvorstand trifft sich regelmäßig zur Kreisvorstandssit
 zung. Solltest Du Interesse an den aktuellen Themen des Kreisvorstands ha
 ben\, kannst Du Dich unter den auf der Homepage aufgeführten E-Mail-Adre
 ssen direkt an den Vorstand wenden.
CLASS:PUBLIC
DTSTART;TZID=Europe/Berlin:20260520T200000
DTEND;TZID=Europe/Berlin:20260520T210000
DTSTAMP:20260420T193548
END:VEVENT
BEGIN:VEVENT
UID:87fe940656bca7dd8b97e61a099b811f@gruene-winterbach.de
URL;VALUE=URI:https://gruene-winterbach.de/termine/gemeinderats-vernetzun
 gstreffen/
LOCATION:Grünes Büro Waiblingen
SUMMARY:Gemeinderats-Vernetzungstreffen
DESCRIPTION;ALTREP="data:text/html,%3Cp%3EGr%C3%BCne%20und%20gr%C3%BCn-na
 he%20Gemeinder%C3%A4t%3Ainnen%20im%20Rems-Murr-Kreis%20treffen%20sich%20z
 u%20einem%20kollegialen%20Austausch.%20%3C%2Fp%3E":Grüne und grün-nahe 
 Gemeinderät:innen im Rems-Murr-Kreis treffen sich zu einem kollegialen A
 ustausch.
CLASS:PUBLIC
DTSTART;TZID=Europe/Berlin:20260522T170000
DTEND;TZID=Europe/Berlin:20260522T190000
DTSTAMP:20260420T193548
END:VEVENT
BEGIN:VEVENT
UID:8c407c1371a32a862cc8bba198cfb6ea@gruene-winterbach.de
URL;VALUE=URI:https://gruene-winterbach.de/termine/treffen-des-ortsverban
 d-winterbach-4/
LOCATION:Bürgerhaus Kelter, Ritterstraße 3, Winterbach
SUMMARY:Treffen des Ortsverband Winterbach
DESCRIPTION;ALTREP="data:text/html,%0A%3Cp%3EDu%20interessierst%20dich%20
 f%C3%BCr%20Politik%20oder%20m%C3%B6chtest%20mehr%20%C3%BCber%20die%20Gr%C
 3%BCnen%20Winterbach%20erfahren%3F%3C%2Fp%3E%0A%0A%0A%0A%3Cp%3EKomm%20zu%
 20unserem%20offenen%20Treffen%20-%20immer%20am%20zweiten%20Montag%20im%20
 Monat.%3C%2Fp%3E%0A":Du interessierst dich für Politik oder möchtest me
 hr über die Grünen Winterbach erfahren?\n\nKomm zu unserem offenen Tref
 fen - immer am zweiten Montag im Monat.
CLASS:PUBLIC
DTSTART;TZID=Europe/Berlin:20260608T190000
DTEND;TZID=Europe/Berlin:20260608T210000
DTSTAMP:20260420T193548
END:VEVENT
BEGIN:VEVENT
UID:59521c52b3bc4ce9c628b5b565f8c8b3@gruene-winterbach.de
URL;VALUE=URI:https://gruene-winterbach.de/termine/kreisvorstandssitzung-
 10/
LOCATION:Grünes Büro
SUMMARY:Kreisvorstandssitzung
DESCRIPTION;ALTREP="data:text/html,%3Cp%3EDer%20Kreisvorstand%20trifft%20
 sich%20regelm%C3%A4%C3%9Fig%20zur%20Kreisvorstandssitzung.%20Solltest%20D
 u%20Interesse%20an%20den%20aktuellen%20Themen%20des%20Kreisvorstands%20ha
 ben%2C%20kannst%20Du%20Dich%20unter%20den%20auf%20der%20Homepage%20aufgef
 %C3%BChrten%20E-Mail-Adressen%20direkt%20an%20den%20Vorstand%20wenden.%3C
 %2Fp%3E":Der Kreisvorstand trifft sich regelmäßig zur Kreisvorstandssit
 zung. Solltest Du Interesse an den aktuellen Themen des Kreisvorstands ha
 ben\, kannst Du Dich unter den auf der Homepage aufgeführten E-Mail-Adre
 ssen direkt an den Vorstand wenden.
CLASS:PUBLIC
DTSTART;TZID=Europe/Berlin:20260610T190000
DTEND;TZID=Europe/Berlin:20260610T210000
DTSTAMP:20260420T193548
END:VEVENT
BEGIN:VEVENT
UID:ffb41852fda02f9f67029d9504d4b649@gruene-winterbach.de
URL;VALUE=URI:https://gruene-winterbach.de/termine/kreisvorstandssitzung-
 bei-bedarf-3/
LOCATION:online
SUMMARY:Kreisvorstandssitzung bei Bedarf
DESCRIPTION;ALTREP="data:text/html,%3Cp%3EDer%20Kreisvorstand%20trifft%20
 sich%20regelm%C3%A4%C3%9Fig%20zur%20Kreisvorstandssitzung.%20Solltest%20D
 u%20Interesse%20an%20den%20aktuellen%20Themen%20des%20Kreisvorstands%20ha
 ben%2C%20kannst%20Du%20Dich%20unter%20den%20auf%20der%20Homepage%20aufgef
 %C3%BChrten%20E-Mail-Adressen%20direkt%20an%20den%20Vorstand%20wenden.%3C
 %2Fp%3E":Der Kreisvorstand trifft sich regelmäßig zur Kreisvorstandssit
 zung. Solltest Du Interesse an den aktuellen Themen des Kreisvorstands ha
 ben\, kannst Du Dich unter den auf der Homepage aufgeführten E-Mail-Adre
 ssen direkt an den Vorstand wenden.
CLASS:PUBLIC
DTSTART;TZID=Europe/Berlin:20260617T200000
DTEND;TZID=Europe/Berlin:20260617T210000
DTSTAMP:20260420T193548
END:VEVENT
BEGIN:VEVENT
UID:06c06397de4575e9268c6416f994ae2e@gruene-winterbach.de
URL;VALUE=URI:https://gruene-winterbach.de/termine/kreismitgliederversamm
 lung-2/
LOCATION:Ort wird noch bekannt gegeben
SUMMARY:Kreismitgliederversammlung
DESCRIPTION;ALTREP="data:text/html,%3Cp%3EDelegiertenwahlen%20f%C3%BCr%20
 die%20Landesdelegiertenkonferenz%20und%20die%20Bundesdelegiertenkonferenz
 %3Cbr%20%2F%3E%0A%3Cbr%20%2F%3E%0AAnkommen%20und%20Austausch%20ab%2019%20
 Uhr%3C%2Fp%3E":Delegiertenwahlen für die Landesdelegiertenkonferenz und 
 die Bundesdelegiertenkonferenz\n\nAnkommen und Austausch ab 19 Uhr
CLASS:PUBLIC
DTSTART;TZID=Europe/Berlin:20260629T193000
DTEND;TZID=Europe/Berlin:20260629T213000
DTSTAMP:20260420T193548
END:VEVENT
BEGIN:VEVENT
UID:3324c666a601fff6b09451a526609421@gruene-winterbach.de
URL;VALUE=URI:https://gruene-winterbach.de/termine/kreisvorstandssitzung/
LOCATION:Grünes Büro
SUMMARY:Kreisvorstandssitzung
DESCRIPTION;ALTREP="data:text/html,%3Cp%3EDer%20Kreisvorstand%20trifft%20
 sich%20regelm%C3%A4%C3%9Fig%20zur%20Kreisvorstandssitzung.%20Solltest%20D
 u%20Interesse%20an%20den%20aktuellen%20Themen%20des%20Kreisvorstands%20ha
 ben%2C%20kannst%20Du%20Dich%20unter%20den%20auf%20der%20Homepage%20aufgef
 %C3%BChrten%20E-Mail-Adressen%20direkt%20an%20den%20Vorstand%20wenden.%3C
 %2Fp%3E":Der Kreisvorstand trifft sich regelmäßig zur Kreisvorstandssit
 zung. Solltest Du Interesse an den aktuellen Themen des Kreisvorstands ha
 ben\, kannst Du Dich unter den auf der Homepage aufgeführten E-Mail-Adre
 ssen direkt an den Vorstand wenden.
CLASS:PUBLIC
DTSTART;TZID=Europe/Berlin:20260701T190000
DTEND;TZID=Europe/Berlin:20260701T210000
DTSTAMP:20260420T193548
END:VEVENT
BEGIN:VEVENT
UID:1a3f473550248bac41811e3757a396bb@gruene-winterbach.de
URL;VALUE=URI:https://gruene-winterbach.de/termine/treffen-des-ortsverban
 d-winterbach-5/
LOCATION:Bürgerhaus Kelter, Ritterstraße 3, Winterbach
SUMMARY:Treffen des Ortsverband Winterbach
DESCRIPTION;ALTREP="data:text/html,%0A%3Cp%3EDu%20interessierst%20dich%20
 f%C3%BCr%20Politik%20oder%20m%C3%B6chtest%20mehr%20%C3%BCber%20die%20Gr%C
 3%BCnen%20Winterbach%20erfahren%3F%3C%2Fp%3E%0A%0A%0A%0A%3Cp%3EKomm%20zu%
 20unserem%20offenen%20Treffen%20-%20immer%20am%20zweiten%20Montag%20im%20
 Monat.%3C%2Fp%3E%0A%0A%0A%0A%3Cp%3E%3C%2Fp%3E%0A":Du interessierst dich f
 ür Politik oder möchtest mehr über die Grünen Winterbach erfahren?\n\
 nKomm zu unserem offenen Treffen - immer am zweiten Montag im Monat.
CLASS:PUBLIC
DTSTART;TZID=Europe/Berlin:20260706T190000
DTEND;TZID=Europe/Berlin:20260706T210000
DTSTAMP:20260420T193548
END:VEVENT
BEGIN:VEVENT
UID:228b089c44c8fb4afdb29b1db23d4932@gruene-winterbach.de
URL;VALUE=URI:https://gruene-winterbach.de/termine/kreisvorstandssitzung-
 bei-bedarf/
LOCATION:online
SUMMARY:Kreisvorstandssitzung bei Bedarf
DESCRIPTION;ALTREP="data:text/html,%3Cp%3EDer%20Kreisvorstand%20trifft%20
 sich%20regelm%C3%A4%C3%9Fig%20zur%20Kreisvorstandssitzung.%20Solltest%20D
 u%20Interesse%20an%20den%20aktuellen%20Themen%20des%20Kreisvorstands%20ha
 ben%2C%20kannst%20Du%20Dich%20unter%20den%20auf%20der%20Homepage%20aufgef
 %C3%BChrten%20E-Mail-Adressen%20direkt%20an%20den%20Vorstand%20wenden.%3C
 %2Fp%3E":Der Kreisvorstand trifft sich regelmäßig zur Kreisvorstandssit
 zung. Solltest Du Interesse an den aktuellen Themen des Kreisvorstands ha
 ben\, kannst Du Dich unter den auf der Homepage aufgeführten E-Mail-Adre
 ssen direkt an den Vorstand wenden.
CLASS:PUBLIC
DTSTART;TZID=Europe/Berlin:20260819T200000
DTEND;TZID=Europe/Berlin:20260819T210000
DTSTAMP:20260420T193548
END:VEVENT
BEGIN:VEVENT
UID:eeb55a82aae3a7bd549b85538fdbf2bb@gruene-winterbach.de
URL;VALUE=URI:https://gruene-winterbach.de/termine/kreisvorstandssitzung-
 2/
LOCATION:Grünes Büro
SUMMARY:Kreisvorstandssitzung
DESCRIPTION;ALTREP="data:text/html,%3Cp%3EDer%20Kreisvorstand%20trifft%20
 sich%20regelm%C3%A4%C3%9Fig%20zur%20Kreisvorstandssitzung.%20Solltest%20D
 u%20Interesse%20an%20den%20aktuellen%20Themen%20des%20Kreisvorstands%20ha
 ben%2C%20kannst%20Du%20Dich%20unter%20den%20auf%20der%20Homepage%20aufgef
 %C3%BChrten%20E-Mail-Adressen%20direkt%20an%20den%20Vorstand%20wenden.%3C
 %2Fp%3E":Der Kreisvorstand trifft sich regelmäßig zur Kreisvorstandssit
 zung. Solltest Du Interesse an den aktuellen Themen des Kreisvorstands ha
 ben\, kannst Du Dich unter den auf der Homepage aufgeführten E-Mail-Adre
 ssen direkt an den Vorstand wenden.
CLASS:PUBLIC
DTSTART;TZID=Europe/Berlin:20260916T190000
DTEND;TZID=Europe/Berlin:20260916T210000
DTSTAMP:20260420T193548
END:VEVENT
BEGIN:VEVENT
UID:14b36b7c14c68f2f5ae96cb047be5da0@gruene-winterbach.de
URL;VALUE=URI:https://gruene-winterbach.de/termine/kreisvorstandssitzung-
 3/
LOCATION:Grünes Büro
SUMMARY:Kreisvorstandssitzung
DESCRIPTION;ALTREP="data:text/html,%3Cp%3EDer%20Kreisvorstand%20trifft%20
 sich%20regelm%C3%A4%C3%9Fig%20zur%20Kreisvorstandssitzung.%20Solltest%20D
 u%20Interesse%20an%20den%20aktuellen%20Themen%20des%20Kreisvorstands%20ha
 ben%2C%20kannst%20Du%20Dich%20unter%20den%20auf%20der%20Homepage%20aufgef
 %C3%BChrten%20E-Mail-Adressen%20direkt%20an%20den%20Vorstand%20wenden.%3C
 %2Fp%3E":Der Kreisvorstand trifft sich regelmäßig zur Kreisvorstandssit
 zung. Solltest Du Interesse an den aktuellen Themen des Kreisvorstands ha
 ben\, kannst Du Dich unter den auf der Homepage aufgeführten E-Mail-Adre
 ssen direkt an den Vorstand wenden.
CLASS:PUBLIC
DTSTART;TZID=Europe/Berlin:20261007T190000
DTEND;TZID=Europe/Berlin:20261007T210000
DTSTAMP:20260420T193548
END:VEVENT
BEGIN:VEVENT
UID:1d747ff8c8f4751be49fa5ee728bc2db@gruene-winterbach.de
URL;VALUE=URI:https://gruene-winterbach.de/termine/jahreshauptversammlung
 /
LOCATION:Winterbach, Bürgerhaus Alte Kelter
SUMMARY:Jahreshauptversammlung
DESCRIPTION;ALTREP="data:text/html,%3Cp%3EAnkommen%20ab%2018.30%20Uhr%20%
 3Cbr%20%2F%3E%0ABeginn%2019%20Uhr%3Cbr%20%2F%3E%0ABericht%20des%20Kreisvo
 rstands%3Cbr%20%2F%3E%0AKassenbericht%3Cbr%20%2F%3E%0AEntlastungen%3Cbr%2
 0%2F%3E%0AVorstandswahlen%20%3C%2Fp%3E":Ankommen ab 18.30 Uhr\n\nBeginn 1
 9 Uhr\n\nBericht des Kreisvorstands\n\nKassenbericht\n\nEntlastungen\n\nV
 orstandswahlen
CLASS:PUBLIC
DTSTART;TZID=Europe/Berlin:20261008T190000
DTEND;TZID=Europe/Berlin:20261008T220000
DTSTAMP:20260420T193548
END:VEVENT
BEGIN:VEVENT
UID:aa46182ec692cf0c88fedfd3cc8bc850@gruene-winterbach.de
URL;VALUE=URI:https://gruene-winterbach.de/termine/jahreshauptversammlung
 -ortsverband-winterbach/
LOCATION:Bürgerhaus Kelter, Ritterstraße 3, Winterbach
SUMMARY:Jahreshauptversammlung Ortsverband Winterbach
DESCRIPTION;ALTREP="data:text/html,%0A%3Cp%3EDu%20interessierst%20dich%20
 f%C3%BCr%20Politik%20oder%20m%C3%B6chtest%20mehr%20%C3%BCber%20die%20Gr%C
 3%BCnen%20Winterbach%20erfahren%3F%3C%2Fp%3E%0A%0A%0A%0A%3Cp%3EKomm%20zu%
 20unserem%20offenen%20Treffen%20%E2%80%93%20immer%20am%20zweiten%20Montag
 %20im%20Monat.%3C%2Fp%3E%0A%0A%0A%0A%3Cp%3EIm%20Oktober%20haben%20wir%20u
 nsere%20Jahreshauptversammlung.%3C%2Fp%3E%0A":Du interessierst dich für 
 Politik oder möchtest mehr über die Grünen Winterbach erfahren?\n\nKom
 m zu unserem offenen Treffen – immer am zweiten Montag im Monat.\n\nIm 
 Oktober haben wir unsere Jahreshauptversammlung.
CLASS:PUBLIC
DTSTART;TZID=Europe/Berlin:20261012T190000
DTEND;TZID=Europe/Berlin:20261012T210000
DTSTAMP:20260420T193548
END:VEVENT
BEGIN:VEVENT
UID:e45dc0c5839667637b942044d90d2e6e@gruene-winterbach.de
URL;VALUE=URI:https://gruene-winterbach.de/termine/treffen-des-ortsverban
 d-winterbach-6/
LOCATION:Bürgerhaus Kelter, Ritterstraße 3, Winterbach
SUMMARY:Treffen des Ortsverband Winterbach
DESCRIPTION;ALTREP="data:text/html,%0A%3Cp%3EDu%20interessierst%20dich%20
 f%C3%BCr%20Politik%20oder%20m%C3%B6chtest%20mehr%20%C3%BCber%20die%20Gr%C
 3%BCnen%20Winterbach%20erfahren%3F%3C%2Fp%3E%0A%0A%0A%0A%3Cp%3EKomm%20zu%
 20unserem%20offenen%20Treffen%20%E2%80%93%20immer%20am%20zweiten%20Montag
 %20im%20Monat.%3C%2Fp%3E%0A":Du interessierst dich für Politik oder möc
 htest mehr über die Grünen Winterbach erfahren?\n\nKomm zu unserem offe
 nen Treffen – immer am zweiten Montag im Monat.
CLASS:PUBLIC
DTSTART;TZID=Europe/Berlin:20261109T190000
DTEND;TZID=Europe/Berlin:20261109T210000
DTSTAMP:20260420T193548
END:VEVENT
BEGIN:VEVENT
UID:604eb7d1862d1f7d280d896f1e79b01e@gruene-winterbach.de
URL;VALUE=URI:https://gruene-winterbach.de/termine/treffen-des-ortsverban
 d-winterbach-7/
LOCATION:Bürgerhaus Kelter, Ritterstraße 3, Winterbach
SUMMARY:Treffen des Ortsverband Winterbach
DESCRIPTION;ALTREP="data:text/html,%0A%3Cp%3EDu%20interessierst%20dich%20
 f%C3%BCr%20Politik%20oder%20m%C3%B6chtest%20mehr%20%C3%BCber%20die%20Gr%C
 3%BCnen%20Winterbach%20erfahren%3F%3C%2Fp%3E%0A%0A%0A%0A%3Cp%3EKomm%20zu%
 20unserem%20offenen%20Treffen%20%E2%80%93%20immer%20am%20zweiten%20Montag
 %20im%20Monat.%3C%2Fp%3E%0A":Du interessierst dich für Politik oder möc
 htest mehr über die Grünen Winterbach erfahren?\n\nKomm zu unserem offe
 nen Treffen – immer am zweiten Montag im Monat.
CLASS:PUBLIC
DTSTART;TZID=Europe/Berlin:20261207T190000
DTEND;TZID=Europe/Berlin:20261207T210000
DTSTAMP:20260420T193548
END:VEVENT
END:VCALENDAR